BEGIN:VCALENDAR
VERSION:2.0
PRODID:-//British Association of Paper Historians - ECPv6.15.20//NONSGML v1.0//EN
CALSCALE:GREGORIAN
METHOD:PUBLISH
X-ORIGINAL-URL:https://baph.org.uk
X-WR-CALDESC:Events for British Association of Paper Historians
REFRESH-INTERVAL;VALUE=DURATION:PT1H
X-Robots-Tag:noindex
X-PUBLISHED-TTL:PT1H
BEGIN:VTIMEZONE
TZID:Europe/London
BEGIN:DAYLIGHT
TZOFFSETFROM:+0000
TZOFFSETTO:+0100
TZNAME:BST
DTSTART:20230326T010000
END:DAYLIGHT
BEGIN:STANDARD
TZOFFSETFROM:+0100
TZOFFSETTO:+0000
TZNAME:GMT
DTSTART:20231029T010000
END:STANDARD
BEGIN:DAYLIGHT
TZOFFSETFROM:+0000
TZOFFSETTO:+0100
TZNAME:BST
DTSTART:20240331T010000
END:DAYLIGHT
BEGIN:STANDARD
TZOFFSETFROM:+0100
TZOFFSETTO:+0000
TZNAME:GMT
DTSTART:20241027T010000
END:STANDARD
BEGIN:DAYLIGHT
TZOFFSETFROM:+0000
TZOFFSETTO:+0100
TZNAME:BST
DTSTART:20250330T010000
END:DAYLIGHT
BEGIN:STANDARD
TZOFFSETFROM:+0100
TZOFFSETTO:+0000
TZNAME:GMT
DTSTART:20251026T010000
END:STANDARD
END:VTIMEZONE
BEGIN:VEVENT
DTSTART;TZID=Europe/London:20240906T190000
DTEND;TZID=Europe/London:20240906T203000
DTSTAMP:20260422T195323
CREATED:20240309T090111Z
LAST-MODIFIED:20240309T090111Z
UID:1732-1725649200-1725654600@baph.org.uk
SUMMARY:The Arrival of the Railways in West Hertfordshire - Michael Stanyon
DESCRIPTION:Find out how the railways transformed the local area.  Presented by Michael Stanyon\, historian\, and the person responsible for the formation of the Apsley Paper Trail archive. \nAn informal and interesting talk with plenty of opportunities to ask questions.. \nTicket price includes a fish and chip supper. Teas and coffee will also be served. \nPlease note there is no lift to this first floor room.
URL:https://baph.org.uk/event/the-arrival-of-the-railways-in-west-hertfordshire-michael-stanyon/
LOCATION:Apsley Paper Trail\, The Cottage\, Apsley Mill\, Fourdrinier Way\, Apsley\, Hemel Hempstead\, HP3 9RY\, United Kingdom
CATEGORIES:Affiliated Events
ATTACH;FMTTYPE=image/jpeg:https://baph.org.uk/wp-content/uploads/2023/04/Boatimg_01.jpg
END:VEVENT
BEGIN:VEVENT
DTSTART;TZID=Europe/London:20240925T140000
DTEND;TZID=Europe/London:20240925T170000
DTSTAMP:20260422T195323
CREATED:20240612T075325Z
LAST-MODIFIED:20240612T075325Z
UID:1856-1727272800-1727283600@baph.org.uk
SUMMARY:Visit to Lambeth Palace Library
DESCRIPTION:We shall visit the Conservation Studio\, the Reading Room and their 8th floor terrace with magnificent views over London. They will also be\nlooking out some choice material for us to see. \nLambeth Palace has a lovely large garden and next door is The Garden Museum housed in the deconsecrated church of St Mary-at-Lambeth and\noperated by the Tradescant Trust. There is plenty to see. \nMore details and a booking form will be emailed round nearer the time.
URL:https://baph.org.uk/event/visit-to-lambeth-palace-library/
LOCATION:Lambeth Palace Library\, 15 Lambeth Palace Library Road\, London\, SE1 7JT\, United Kingdom
CATEGORIES:BAPH Events
ATTACH;FMTTYPE=image/jpeg:https://baph.org.uk/wp-content/uploads/2024/06/Lambeth-Palace-Library-e1718178765237.jpg
END:VEVENT
END:VCALENDAR