BEGIN:VCALENDAR
VERSION:2.0
PRODID:-//British Association of Paper Historians - ECPv6.15.20//NONSGML v1.0//EN
CALSCALE:GREGORIAN
METHOD:PUBLISH
X-ORIGINAL-URL:https://baph.org.uk
X-WR-CALDESC:Events for British Association of Paper Historians
REFRESH-INTERVAL;VALUE=DURATION:PT1H
X-Robots-Tag:noindex
X-PUBLISHED-TTL:PT1H
BEGIN:VTIMEZONE
TZID:Europe/London
BEGIN:DAYLIGHT
TZOFFSETFROM:+0000
TZOFFSETTO:+0100
TZNAME:BST
DTSTART:20230326T010000
END:DAYLIGHT
BEGIN:STANDARD
TZOFFSETFROM:+0100
TZOFFSETTO:+0000
TZNAME:GMT
DTSTART:20231029T010000
END:STANDARD
BEGIN:DAYLIGHT
TZOFFSETFROM:+0000
TZOFFSETTO:+0100
TZNAME:BST
DTSTART:20240331T010000
END:DAYLIGHT
BEGIN:STANDARD
TZOFFSETFROM:+0100
TZOFFSETTO:+0000
TZNAME:GMT
DTSTART:20241027T010000
END:STANDARD
BEGIN:DAYLIGHT
TZOFFSETFROM:+0000
TZOFFSETTO:+0100
TZNAME:BST
DTSTART:20250330T010000
END:DAYLIGHT
BEGIN:STANDARD
TZOFFSETFROM:+0100
TZOFFSETTO:+0000
TZNAME:GMT
DTSTART:20251026T010000
END:STANDARD
END:VTIMEZONE
BEGIN:VEVENT
DTSTART;TZID=Europe/London:20240601T140000
DTEND;TZID=Europe/London:20240601T160000
DTSTAMP:20260423T013656
CREATED:20240422T124008Z
LAST-MODIFIED:20240422T185216Z
UID:1803-1717250400-1717257600@baph.org.uk
SUMMARY:Japanese Paper Cloth / Textiles - Kazuko Sato
DESCRIPTION:Welcome event at Bow Arts Studio\, Old Manor Park Library\, London E12 5JY.  \nDownload information leaflet.
URL:https://baph.org.uk/event/japanese-paper-cloth-textiles-kazuko-sato-3/
LOCATION:Bow Arts Studio\, Old Manor Park Library\, London\, E12 5JY\, United Kingdom
CATEGORIES:Affiliated Events
ATTACH;FMTTYPE=image/jpeg:https://baph.org.uk/wp-content/uploads/2024/04/oldmanorparklibrary-e1713789576192.jpg
END:VEVENT
BEGIN:VEVENT
DTSTART;TZID=Europe/London:20240603T140000
DTEND;TZID=Europe/London:20240603T160000
DTSTAMP:20260423T013656
CREATED:20240309T100312Z
LAST-MODIFIED:20240422T122428Z
UID:1736-1717423200-1717430400@baph.org.uk
SUMMARY:Japanese Paper Cloth / Textiles - Kazuko Sato
DESCRIPTION:Lecture hosted by the Endangered Material Knowledge Project (EMKP) at the Stevenson Lecture Theatre\, British Museum\, London WC1B 3DG. Booking opening soon. \nDownload information leaflet.
URL:https://baph.org.uk/event/japanese-paper-cloth-textiles-kazuko-sato/
LOCATION:British Museum\, Great Russell Street\, London\, WC1B 3DG\, United Kingdom
CATEGORIES:Affiliated Events
ATTACH;FMTTYPE=image/webp:https://baph.org.uk/wp-content/uploads/2024/03/British-Museum-London.webp
END:VEVENT
BEGIN:VEVENT
DTSTART;TZID=Europe/London:20240608T140000
DTEND;TZID=Europe/London:20240608T170000
DTSTAMP:20260423T013656
CREATED:20240309T101042Z
LAST-MODIFIED:20240422T185354Z
UID:1740-1717855200-1717866000@baph.org.uk
SUMMARY:Japanese Paper Cloth / Textiles - Kazuko Sato
DESCRIPTION:Talk and demonstration including afternoon tea\, hosted by Textile Society\, The Clore Learning Space\, Garden Museum SE1 7LB. \nDownload information leaflet.
URL:https://baph.org.uk/event/japanese-paper-cloth-textiles-kazuko-sato-2/
LOCATION:The Garden Museum\, Lambeth Palace Road\, London\, SE1 7LB\, United Kingdom
CATEGORIES:Affiliated Events
ATTACH;FMTTYPE=image/jpeg:https://baph.org.uk/wp-content/uploads/2024/03/the-garden-museum.jpg
END:VEVENT
BEGIN:VEVENT
DTSTART;TZID=Europe/London:20240614T190000
DTEND;TZID=Europe/London:20240614T203000
DTSTAMP:20260423T013656
CREATED:20240309T085548Z
LAST-MODIFIED:20240309T085548Z
UID:1730-1718391600-1718397000@baph.org.uk
SUMMARY:The Basildon Bond Story - Michael Stanyon
DESCRIPTION:The story of this famous brand is more interesting than you would expect. Historian Michael Stanyon delivers this informal presentation with lots of opportunity to ask questions. \nTicket  price includes a fish and chip supper. Tea and coffee will also be served. \nPlease be aware there is a single flight of stairs and no lift to the Tudor Room.
URL:https://baph.org.uk/event/the-basildon-bond-story-michael-stanyon/
LOCATION:Apsley Paper Trail\, The Cottage\, Apsley Mill\, Fourdrinier Way\, Apsley\, Hemel Hempstead\, HP3 9RY\, United Kingdom
CATEGORIES:Affiliated Events
ATTACH;FMTTYPE=image/jpeg:https://baph.org.uk/wp-content/uploads/2023/04/Boatimg_01.jpg
END:VEVENT
END:VCALENDAR