BEGIN:VCALENDAR
VERSION:2.0
PRODID:-//British Association of Paper Historians - ECPv6.15.20//NONSGML v1.0//EN
CALSCALE:GREGORIAN
METHOD:PUBLISH
X-WR-CALNAME:British Association of Paper Historians
X-ORIGINAL-URL:https://baph.org.uk
X-WR-CALDESC:Events for British Association of Paper Historians
REFRESH-INTERVAL;VALUE=DURATION:PT1H
X-Robots-Tag:noindex
X-PUBLISHED-TTL:PT1H
BEGIN:VTIMEZONE
TZID:Europe/London
BEGIN:DAYLIGHT
TZOFFSETFROM:+0000
TZOFFSETTO:+0100
TZNAME:BST
DTSTART:20230326T010000
END:DAYLIGHT
BEGIN:STANDARD
TZOFFSETFROM:+0100
TZOFFSETTO:+0000
TZNAME:GMT
DTSTART:20231029T010000
END:STANDARD
BEGIN:DAYLIGHT
TZOFFSETFROM:+0000
TZOFFSETTO:+0100
TZNAME:BST
DTSTART:20240331T010000
END:DAYLIGHT
BEGIN:STANDARD
TZOFFSETFROM:+0100
TZOFFSETTO:+0000
TZNAME:GMT
DTSTART:20241027T010000
END:STANDARD
BEGIN:DAYLIGHT
TZOFFSETFROM:+0000
TZOFFSETTO:+0100
TZNAME:BST
DTSTART:20250330T010000
END:DAYLIGHT
BEGIN:STANDARD
TZOFFSETFROM:+0100
TZOFFSETTO:+0000
TZNAME:GMT
DTSTART:20251026T010000
END:STANDARD
END:VTIMEZONE
BEGIN:VEVENT
DTSTART;TZID=Europe/London:20240306T110000
DTEND;TZID=Europe/London:20240306T170000
DTSTAMP:20260423T073159
CREATED:20240201T162530Z
LAST-MODIFIED:20240223T143902Z
UID:1699-1709722800-1709744400@baph.org.uk
SUMMARY:Spring Meeting
DESCRIPTION:We have booked the Farringdon Room at St.Bride Foundation for our popular Spring Meeting. When the late Alan Crocker was Chairman he started the Spring Meeting as an opportunity for members to present topics that might be of interest to the rest of the membership. These topics can be short or long talks\, videos\, demonstrations or anything that is linked in some way\, however tenuous\, to paper. \n\n\n\nHolding the meeting on a Wednesday seems to work well for members and helps with cheaper train fares. We plan to start at 11am with coffee and finish at 5pm with a complimentary glass of wine\, there is a break for lunch when delegates can visit the local hostelries or bring their own sandwiches. \nConfirmed programme. \n\n\n\n11.00 am      Assemble – Coffee & biscuits11.30.am      Welcome – Daven Chamberlain11.40 am      Peter Bower – “Balloons\, Papermaking\, Riots and Revolution” Papermaking and the early exploration of manned flight.12.05 pm      Ellie Burkett – “Conversations about Shifu\, woven paper cloth” Endangered material knowledge.12.45 pm      Ian Christie-Miller – “Infra-red Light Sheets” \n1.00 pm      Lunch – please make your own arrangements.2.15 pm      Mark Cropper and Colin Cohen – “The Paper Foundation Collection and TH Saunders’ Illustrations of British Paper Manufacture\, 1885″3.10 pm     Nicola Walker – “Mount Stewart’s Felted Paper Bed-hangings”. The conservation of a rare survivor.”3.50 pm     Mike Stanyon\, Rowena Haigh and Sue Woolnough – “John Dickinson & Co.\, the General Strike and a Masonic Group.”4.20pm      Closing Remarks – Daven ChamberlainTalks will be followed by wine and nibbles at about 4.30pm. \nClick on the ‘website’ link below for payment and venue details.
URL:https://baph.org.uk/event/spring-meeting/
LOCATION:St Bride Foundation\, 14 Bride Lane\, Fleet Street\, London\, EC4Y 8EQ\, United Kingdom
CATEGORIES:BAPH Events
ATTACH;FMTTYPE=image/jpeg:https://baph.org.uk/wp-content/uploads/2022/02/stbridesfoundation.jpg
END:VEVENT
BEGIN:VEVENT
DTSTART;TZID=Europe/London:20240309T140000
DTEND;TZID=Europe/London:20240309T170000
DTSTAMP:20260423T073159
CREATED:20240223T144953Z
LAST-MODIFIED:20240223T144953Z
UID:1714-1709992800-1710003600@baph.org.uk
SUMMARY:Wallpaper History Society
DESCRIPTION:We still have a few places left for our visit to the studio and showroom of Marthe Armitage\, now managed by her daughter\, Jo Broadhurst. Members of the BAPH are welcome to join this special event. \nMarthe Armitage is a renowned British wallpaper designer whose work is characterised by unique hand-drawn designs that are hand printed from lino blocks. Her daughter Jo Broadhurst now runs the studio where they design textiles as well as wallpapers. \nTickets for WHS and BAPH members are £24\, available via the Eventbrite link below. \nJo will tell the story of the development of the business\, and there will be a Q&A with Marthe. Jo will also have the press working for a hands-on look at how the wallpapers are made. \nItems will be available for purchase. \nFor more information on Marthe Armitage\, please see www.marthearmitage.co.uk
URL:https://baph.org.uk/event/wallpaper-history-society/
LOCATION:Brentford Studio\, Unit 2 Carrick Square 5 Commerce Road\, Brentford\, TW8 8LE\, United Kingdom
CATEGORIES:Affiliated Events
ATTACH;FMTTYPE=image/jpeg:https://baph.org.uk/wp-content/uploads/2024/02/brentfordstudio.jpg
END:VEVENT
END:VCALENDAR