BEGIN:VCALENDAR
VERSION:2.0
PRODID:-//British Association of Paper Historians - ECPv6.15.20//NONSGML v1.0//EN
CALSCALE:GREGORIAN
METHOD:PUBLISH
X-ORIGINAL-URL:https://baph.org.uk
X-WR-CALDESC:Events for British Association of Paper Historians
REFRESH-INTERVAL;VALUE=DURATION:PT1H
X-Robots-Tag:noindex
X-PUBLISHED-TTL:PT1H
BEGIN:VTIMEZONE
TZID:Europe/London
BEGIN:DAYLIGHT
TZOFFSETFROM:+0000
TZOFFSETTO:+0100
TZNAME:BST
DTSTART:20220327T010000
END:DAYLIGHT
BEGIN:STANDARD
TZOFFSETFROM:+0100
TZOFFSETTO:+0000
TZNAME:GMT
DTSTART:20221030T010000
END:STANDARD
BEGIN:DAYLIGHT
TZOFFSETFROM:+0000
TZOFFSETTO:+0100
TZNAME:BST
DTSTART:20230326T010000
END:DAYLIGHT
BEGIN:STANDARD
TZOFFSETFROM:+0100
TZOFFSETTO:+0000
TZNAME:GMT
DTSTART:20231029T010000
END:STANDARD
BEGIN:DAYLIGHT
TZOFFSETFROM:+0000
TZOFFSETTO:+0100
TZNAME:BST
DTSTART:20240331T010000
END:DAYLIGHT
BEGIN:STANDARD
TZOFFSETFROM:+0100
TZOFFSETTO:+0000
TZNAME:GMT
DTSTART:20241027T010000
END:STANDARD
END:VTIMEZONE
BEGIN:VEVENT
DTSTART;TZID=Europe/London:20231110T190000
DTEND;TZID=Europe/London:20231110T213000
DTSTAMP:20260423T150111
CREATED:20230423T202010Z
LAST-MODIFIED:20230423T203552Z
UID:1575-1699642800-1699651800@baph.org.uk
SUMMARY:Researching ‘The Paper Mill Girl’ – Glenda Young
DESCRIPTION:Glenda Young has kindly offered to join our talks programme\, with a presentation about writing her paper mill based story and how she researched it. The Apsley Paper Trail archive was one of her sources of information and if you have read the book\, you will see we get a mention. Do come and meet Glenda\, she is lovely! Copies of ‘The Paper Mill Girl’ will be available with all proceeds to our fundraiser for post- fire recovery.  Glenda will happily sign copies for you on the night. \nBestselling author of many historical sagas and the ‘Cosy Crime Mysteries\, Glenda is also runs the Coronation Street Blog. She is a proud member of the Crime Writers’ Association\, the Society of Authors and the Society of Women Writers and Journalists. Her novel\, ‘The Paper Mill Girl’ is based around the life of seventeen-year-old Ruth Hardy works long hours at Grange Paper Works with her younger sister\, Bea\, and spends her free time caring for their ailing parents. Set in the north of England\, Glenda visited Frogmore to get the feel of a working mill and undertook research within our archive. \nYour ticket will cover the guest speaker and food. Each event will have its own food accompaniment\, please see website for details. We will also be serving free tea and coffee.
URL:https://baph.org.uk/event/researching-the-paper-mill-girl-glenda-young/
LOCATION:Apsley Paper Trail\, The Cottage\, Apsley Mill\, Fourdrinier Way\, Apsley\, Hemel Hempstead\, HP3 9RY\, United Kingdom
CATEGORIES:Affiliated Events
ATTACH;FMTTYPE=image/jpeg:https://baph.org.uk/wp-content/uploads/2023/04/Boatimg_01.jpg
END:VEVENT
END:VCALENDAR