BEGIN:VCALENDAR
VERSION:2.0
PRODID:-//British Association of Paper Historians - ECPv6.15.20//NONSGML v1.0//EN
CALSCALE:GREGORIAN
METHOD:PUBLISH
X-WR-CALNAME:British Association of Paper Historians
X-ORIGINAL-URL:https://baph.org.uk
X-WR-CALDESC:Events for British Association of Paper Historians
REFRESH-INTERVAL;VALUE=DURATION:PT1H
X-Robots-Tag:noindex
X-PUBLISHED-TTL:PT1H
BEGIN:VTIMEZONE
TZID:Europe/London
BEGIN:DAYLIGHT
TZOFFSETFROM:+0000
TZOFFSETTO:+0100
TZNAME:BST
DTSTART:20220327T010000
END:DAYLIGHT
BEGIN:STANDARD
TZOFFSETFROM:+0100
TZOFFSETTO:+0000
TZNAME:GMT
DTSTART:20221030T010000
END:STANDARD
BEGIN:DAYLIGHT
TZOFFSETFROM:+0000
TZOFFSETTO:+0100
TZNAME:BST
DTSTART:20230326T010000
END:DAYLIGHT
BEGIN:STANDARD
TZOFFSETFROM:+0100
TZOFFSETTO:+0000
TZNAME:GMT
DTSTART:20231029T010000
END:STANDARD
BEGIN:DAYLIGHT
TZOFFSETFROM:+0000
TZOFFSETTO:+0100
TZNAME:BST
DTSTART:20240331T010000
END:DAYLIGHT
BEGIN:STANDARD
TZOFFSETFROM:+0100
TZOFFSETTO:+0000
TZNAME:GMT
DTSTART:20241027T010000
END:STANDARD
END:VTIMEZONE
BEGIN:VEVENT
DTSTART;TZID=Europe/London:20230623T190000
DTEND;TZID=Europe/London:20230623T213000
DTSTAMP:20260424T001101
CREATED:20230423T200931Z
LAST-MODIFIED:20240309T084459Z
UID:1569-1687546800-1687555800@baph.org.uk
SUMMARY:Revolutionary Decade: 1800-1810 – Michael Stanyon
DESCRIPTION:Michael gives us insights into the developments made during this decade when many of the foundations for modern industry were developed through papermaking. \nA talk by the authority on paper mills in The Gade Valley\, the creator of the Apsley Paper Trail Archive and brilliant speaker\, Michael Stanyon. since handing over the reins of the archive to our Collections Officer\, Mike spends his time researching\, speaking and writng works about the heritage of the area. He is an associate of The British Association of Paper Historians and has contributed to many publications\, as well as authoring his own books. If anyone knows the history of the Gade Valley\, Mike does! \nYour ticket will cover the guest speaker and food. Each event will have its own food accompaniment\, please see website for details. We will also be serving free tea and coffee.
URL:https://baph.org.uk/event/revolutionary-decade-1800-1810-michael-stanyon/
LOCATION:Apsley Paper Trail\, The Cottage\, Apsley Mill\, Fourdrinier Way\, Apsley\, Hemel Hempstead\, HP3 9RY\, United Kingdom
CATEGORIES:Affiliated Events
ATTACH;FMTTYPE=image/jpeg:https://baph.org.uk/wp-content/uploads/2023/04/Boatimg_01.jpg
END:VEVENT
END:VCALENDAR