BEGIN:VCALENDAR
VERSION:2.0
PRODID:-//British Association of Paper Historians - ECPv6.15.20//NONSGML v1.0//EN
CALSCALE:GREGORIAN
METHOD:PUBLISH
X-WR-CALNAME:British Association of Paper Historians
X-ORIGINAL-URL:https://baph.org.uk
X-WR-CALDESC:Events for British Association of Paper Historians
REFRESH-INTERVAL;VALUE=DURATION:PT1H
X-Robots-Tag:noindex
X-PUBLISHED-TTL:PT1H
BEGIN:VTIMEZONE
TZID:Europe/London
BEGIN:DAYLIGHT
TZOFFSETFROM:+0000
TZOFFSETTO:+0100
TZNAME:BST
DTSTART:20240331T010000
END:DAYLIGHT
BEGIN:STANDARD
TZOFFSETFROM:+0100
TZOFFSETTO:+0000
TZNAME:GMT
DTSTART:20241027T010000
END:STANDARD
BEGIN:DAYLIGHT
TZOFFSETFROM:+0000
TZOFFSETTO:+0100
TZNAME:BST
DTSTART:20250330T010000
END:DAYLIGHT
BEGIN:STANDARD
TZOFFSETFROM:+0100
TZOFFSETTO:+0000
TZNAME:GMT
DTSTART:20251026T010000
END:STANDARD
BEGIN:DAYLIGHT
TZOFFSETFROM:+0000
TZOFFSETTO:+0100
TZNAME:BST
DTSTART:20260329T010000
END:DAYLIGHT
BEGIN:STANDARD
TZOFFSETFROM:+0100
TZOFFSETTO:+0000
TZNAME:GMT
DTSTART:20261025T010000
END:STANDARD
END:VTIMEZONE
BEGIN:VEVENT
DTSTART;TZID=Europe/London:20250304T110000
DTEND;TZID=Europe/London:20250304T170000
DTSTAMP:20260420T130752
CREATED:20250116T184214Z
LAST-MODIFIED:20250218T163301Z
UID:1944-1741086000-1741107600@baph.org.uk
SUMMARY:Spring Meeting
DESCRIPTION:Once again we have booked the Farringdon Room at St.Bride Foundation for our popular Spring Meeting. Please note this is a Tuesday not our usual Wednesday.\n\nWhen the late Alan Crocker was Chairman\, he started the Spring Meeting as an opportunity for members to present topics related to paper in some way\, however tenuous\, that might be of interest to the rest of the membership. \nHolding the meeting on a weekday seems to work well for members and helps with cheaper train fares. We plan to start at 11am with coffee and finish at 5pm with a complimentary glass of wine\, there is a break for lunch when delegates can visit the local hostelries or bring their own sandwiches. \nOur contributors are: \nPeter Bower:  “A Paper miscellany: Poison & Paper\, Paper Boats\, Paper Mills and other things” \nSue Paul:  “Paper\, People\, Progress & Power: an investigation into the migration of paper workers: 1785-1921”\nIan Christie-Miller:  “Anne Boleyn and the Armillary Sphere”\nStephen Allen – discussion:  “Vexed Question of Paper Grain in Printed Books”\nAlison Muir:  “Paper Manufacture in the North of Ireland” \nAlexander Romanov-Hughes:  “The Portrait of Thomas Bonsor Crompton.” \nNeil Robertson:  “ShiQiao Papermaking Village\, 2024.”  \nThere is an administration charge for the day of £20 to members of BAPH and conservators and members of WHS\, £27 to non-members and BAPH joint members.  The wine is included. To avoid collecting money on the day would you please send your cheque\, payable to BAPH\, before the meeting to:\nRod Morley\, 5 Dark Hill\, Faversham\, Kent.  ME13 7SP \nOr you can pay by Direct Transfer into the BAPH bank account using the following: Sort Code: 20 39 53 Account No.: 80216127 (BAPH – Barclays\, Leicester) \nOr pay by  credit/debit card or PayPal here.
URL:https://baph.org.uk/event/spring-meeting-2/
LOCATION:St Bride Foundation\, 14 Bride Lane\, Fleet Street\, London\, EC4Y 8EQ\, United Kingdom
CATEGORIES:BAPH Events
ATTACH;FMTTYPE=image/jpeg:https://baph.org.uk/wp-content/uploads/2022/02/stbridesfoundation.jpg
END:VEVENT
END:VCALENDAR