BEGIN:VCALENDAR
VERSION:2.0
PRODID:-//British Association of Paper Historians - ECPv6.15.20//NONSGML v1.0//EN
CALSCALE:GREGORIAN
METHOD:PUBLISH
X-ORIGINAL-URL:https://baph.org.uk
X-WR-CALDESC:Events for British Association of Paper Historians
REFRESH-INTERVAL;VALUE=DURATION:PT1H
X-Robots-Tag:noindex
X-PUBLISHED-TTL:PT1H
BEGIN:VTIMEZONE
TZID:Europe/London
BEGIN:DAYLIGHT
TZOFFSETFROM:+0000
TZOFFSETTO:+0100
TZNAME:BST
DTSTART:20220327T010000
END:DAYLIGHT
BEGIN:STANDARD
TZOFFSETFROM:+0100
TZOFFSETTO:+0000
TZNAME:GMT
DTSTART:20221030T010000
END:STANDARD
BEGIN:DAYLIGHT
TZOFFSETFROM:+0000
TZOFFSETTO:+0100
TZNAME:BST
DTSTART:20230326T010000
END:DAYLIGHT
BEGIN:STANDARD
TZOFFSETFROM:+0100
TZOFFSETTO:+0000
TZNAME:GMT
DTSTART:20231029T010000
END:STANDARD
BEGIN:DAYLIGHT
TZOFFSETFROM:+0000
TZOFFSETTO:+0100
TZNAME:BST
DTSTART:20240331T010000
END:DAYLIGHT
BEGIN:STANDARD
TZOFFSETFROM:+0100
TZOFFSETTO:+0000
TZNAME:GMT
DTSTART:20241027T010000
END:STANDARD
END:VTIMEZONE
BEGIN:VEVENT
DTSTART;TZID=Europe/London:20230922T130000
DTEND;TZID=Europe/London:20230924T140000
DTSTAMP:20260422T000245
CREATED:20230703T180547Z
LAST-MODIFIED:20230818T210220Z
UID:1616-1695387600-1695564000@baph.org.uk
SUMMARY:34th Annual Conference 2023
DESCRIPTION:We will be holding our Annual Conference at The Albrighton Mercure Hotel set in 15 acres of grounds on the outskirts of Shrewsbury in the beautiful County of Shropshire.\nWe are planning a visit and tour of The Shrewsbury Flax Mill and of Minsterley Church to see the Paper Bridal Garlands. We shall have lectures late afternoon on Saturday and on Sunday morning.\nWe welcome an international line-up of speakers with papers from: \nPeter Bower: “Things aren’t necessarily what they seem” – Mis-attributed works of art on paper. \nJasdip Singh Dhillon: “Changes beyond the surface” – The relationship between paper-making and human change in the Indus River basin region from 1000-1947. \nRosie Morris: “The Paper Bridal Garlands at Holy Trinity Church\, Minsterley”\nMiquel Gutiérrez-Poch: “Bryan Donkin: papermaking machines and markets (1804-1900)” \nSilvia Pugliese: “Research into papers and watermarks in the Toscolano area of Veneto” \nConference Rates\nTo include Registration\, 2 Receptions\, 1 Lunch and 2 Dinners\, Accommodation\,\nBreakfasts and Visits\nSingle £380\nDouble/twin £580 \nThose finding their own accommodation:\nSunday Morning registration (inclusive of lunch) £90\nThree-day registration (inclusive of meals) £200 \nPlease let us know of any dietary or access requirements. \nPrintable form for payment by cheque or bank transfer. \nPay online by credit/debit card
URL:https://baph.org.uk/event/34th-annual-conference/
LOCATION:Mercure Albrighton Hall\, Ellesmere Rd\, Albrighton\, Shrewsbury\, SY4 3AG\, United Kingdom
CATEGORIES:BAPH Conferences
ATTACH;FMTTYPE=image/jpeg:https://baph.org.uk/wp-content/uploads/2023/07/mercureshrewsbury-e1688406823594.jpg
END:VEVENT
END:VCALENDAR